BEGIN:VCALENDAR
VERSION:2.0
PRODID:-//SVP Dänikon-Hüttikon //NONSGML Events //EN
CALSCALE:GREGORIAN
X-WR-CALNAME:SVP Dänikon-Hüttikon
BEGIN:VEVENT
CREATED:20220701T175017Z
UID:646
DTEND:20250612T200000
DTSTART:20250612T193000
DTSTAMP:20260421T125639Z
LOCATION:Anna Stüssi Haus Dänikon
DESCRIPTION:
SUMMARY:Gemeindeversammlung Dänikon
ORGANIZER:Gemeinde Dänikon
URL;VALUE=URI:https://www.svp-daenikon.ch/termine/gemeindeversammlung-daenikon/
TRANSP:OPAQUE
END:VEVENT
END:VCALENDAR
