BEGIN:VCALENDAR
VERSION:2.0
PRODID:-//SVP Dänikon-Hüttikon //NONSGML Events //EN
CALSCALE:GREGORIAN
X-WR-CALNAME:SVP Dänikon-Hüttikon
BEGIN:VEVENT
CREATED:20251123T195802Z
UID:1557
DTEND:20261124T200000
DTSTART:20261124T193000
DTSTAMP:20260422T084701Z
LOCATION:Sitzungszimmer - Anna Stüssi Haus
DESCRIPTION:*Parolenfassungen werden nach Bedarf oder Antrag durchgeführt, Einlad
SUMMARY:Mitgliederversammlung / Parolenfassung*
ORGANIZER:SVP Dänikon-Hüttikon
URL;VALUE=URI:https://www.svp-daenikon.ch/termine/mitgliederversammlung-parolenfassung-8/
TRANSP:OPAQUE
END:VEVENT
END:VCALENDAR
