BEGIN:VCALENDAR
VERSION:2.0
PRODID:-//SVP Dänikon-Hüttikon //NONSGML Events //EN
CALSCALE:GREGORIAN
X-WR-CALNAME:SVP Dänikon-Hüttikon
BEGIN:VEVENT
CREATED:20251123T194047Z
UID:1549
DTEND:20260908T200000
DTSTART:20260908T193000
DTSTAMP:20260422T084046Z
LOCATION:SVP Bezirk Hinwil
DESCRIPTION:
SUMMARY:Kant. Delegiertenversammlung SVP Kt. Zürich
ORGANIZER:SVP Bezirk Hinwil
URL;VALUE=URI:https://www.svp-daenikon.ch/termine/kant-delegiertenversammlung-svp-kt-zuerich-3/
TRANSP:OPAQUE
END:VEVENT
END:VCALENDAR
