BEGIN:VCALENDAR
VERSION:2.0
PRODID:-//SVP Dänikon-Hüttikon //NONSGML Events //EN
CALSCALE:GREGORIAN
X-WR-CALNAME:SVP Dänikon-Hüttikon
BEGIN:VEVENT
CREATED:20251123T192705Z
UID:1540
DTEND:20261129T100000
DTSTART:20261129T090000
DTSTAMP:20260422T084736Z
LOCATION:
DESCRIPTION:
SUMMARY:Eidg. und kantonale Volksabstimmung
ORGANIZER:
URL;VALUE=URI:https://www.svp-daenikon.ch/termine/eidg-und-kantonale-volksabstimmung-5/
TRANSP:OPAQUE
END:VEVENT
END:VCALENDAR
