BEGIN:VCALENDAR
VERSION:2.0
PRODID:-//SVP Dänikon-Hüttikon //NONSGML Events //EN
CALSCALE:GREGORIAN
X-WR-CALNAME:SVP Dänikon-Hüttikon
BEGIN:VEVENT
CREATED:20251123T192601Z
UID:1538
DTEND:20270305T200000
DTSTART:20270305T190000
DTSTAMP:20260420T123309Z
LOCATION:Schützenhaus Dänikon
DESCRIPTION:
SUMMARY:41. Generalversammlung SVP Dänikon-Hüttikon
ORGANIZER:SVP Dänikon-Hüttikon
URL;VALUE=URI:https://www.svp-daenikon.ch/termine/40-generalversammlung-svp-daenikon-huettikon/
TRANSP:OPAQUE
END:VEVENT
END:VCALENDAR
