BEGIN:VCALENDAR
VERSION:2.0
PRODID:-//SVP Dänikon-Hüttikon //NONSGML Events //EN
CALSCALE:GREGORIAN
X-WR-CALNAME:SVP Dänikon-Hüttikon
BEGIN:VEVENT
CREATED:20251123T192256Z
UID:1534
DTEND:20261215T210000
DTSTART:20261215T200000
DTSTAMP:20260422T085355Z
LOCATION:Schulhaus Rotflue 2\, 8114 Dänikon
DESCRIPTION:Es wird das Budget und der Steuerfuss der Gemeinde Hüttikon festgeleg
SUMMARY:Gemeindeversammlung Hüttikon
ORGANIZER:Gemeinde Hüttikon
URL;VALUE=URI:https://www.svp-daenikon.ch/termine/gemeindeversammlung-huettikon-5/
TRANSP:OPAQUE
END:VEVENT
END:VCALENDAR
