BEGIN:VCALENDAR
VERSION:2.0
PRODID:-//SVP Dänikon-Hüttikon //NONSGML Events //EN
CALSCALE:GREGORIAN
X-WR-CALNAME:SVP Dänikon-Hüttikon
BEGIN:VEVENT
CREATED:20251123T191916Z
UID:1530
DTEND:20260617T200000
DTSTART:20260617T193000
DTSTAMP:20260422T084004Z
LOCATION:Schulhaus Rotflue 2\, 8114 Dänikon
DESCRIPTION:
SUMMARY:prov. Schulgemeindeversammlung Primarschule Dänikon-Hüttikon
ORGANIZER:Primarschule Dänikon-Hüttikon
URL;VALUE=URI:https://www.svp-daenikon.ch/termine/prov-schulgemeindeversammlung-primarschule-daenikon-huettikon/
TRANSP:OPAQUE
END:VEVENT
END:VCALENDAR
