BEGIN:VCALENDAR
VERSION:2.0
PRODID:-//SVP Dänikon-Hüttikon //NONSGML Events //EN
CALSCALE:GREGORIAN
X-WR-CALNAME:SVP Dänikon-Hüttikon
BEGIN:VEVENT
CREATED:20251026T100453Z
UID:1519
DTEND:20260611T200000
DTSTART:20260611T193000
DTSTAMP:20260422T084841Z
LOCATION:Anna Stüssi Haus Dänikon
DESCRIPTION:
SUMMARY:Gemeindeversammlung Dänikon
ORGANIZER:Gemeinde Dänikon
URL;VALUE=URI:https://www.svp-daenikon.ch/termine/gemeindeversammlung-daenikon-3/
TRANSP:OPAQUE
END:VEVENT
END:VCALENDAR
